BEGIN:VCALENDAR
VERSION:2.0
PRODID:-//wp-events-plugin.com//6.6.4.4//EN
BEGIN:VEVENT
UID:128@thehungrybears.co.uk
DTSTART:20261001T210000Z
DTEND:20261001T230000Z
DTSTAMP:20260113T094116Z
URL:https://www.thehungrybears.co.uk/events/millbridge-inn-plymouth-full-b
 and-7/
SUMMARY:Millbridge Inn\, Plymouth (FULL BAND)
DESCRIPTION:
END:VEVENT
END:VCALENDAR