BEGIN:VCALENDAR
VERSION:2.0
PRODID:-//wp-events-plugin.com//6.6.4.4//EN
BEGIN:VEVENT
UID:139@thehungrybears.co.uk
DTSTART:20260809T153000Z
DTEND:20260809T173000Z
DTSTAMP:20260213T093234Z
URL:https://www.thehungrybears.co.uk/events/olde-plough-inn-bere-ferrers-f
 ull-band/
SUMMARY:Olde Plough Inn\, Bere Ferrers  (FULL BAND)
DESCRIPTION:
END:VEVENT
END:VCALENDAR